BEGIN:VCALENDAR
METHOD:PUBLISH
PRODID:Data::ICal 0.13
VERSION:2.0
BEGIN:VEVENT
DESCRIPTION:CLICK HERE &amp; GET YOUR TICKETS
DTSTAMP:20260424T131105Z
DTSTART;TZID=America/New_York:20250821T000000
DTEND;TZID=America/New_York:20250821T000000
LOCATION:
SUMMARY:The Weeknd &#8220;After Hours Til Dawn&#8221; Tour
UID:3766793-1755734400-1755734400
END:VEVENT
END:VCALENDAR
