BEGIN:VCALENDAR
METHOD:PUBLISH
PRODID:Data::ICal 0.13
VERSION:2.0
BEGIN:VEVENT
DESCRIPTION:&nbsp;\n\n&nbsp;\n\n&nbsp;\n\n&nbsp;
DTSTAMP:20260424T130727Z
DTSTART;TZID=America/New_York:20241221T120000
DTEND;TZID=America/New_York:20241221T143000
LOCATION:1706 Candler Rd\, Decatur\, GA
SUMMARY:The Taylor Law Firm &amp; Radio One Atlanta Presents Winter Wonderland
UID:3690204-1734782400-1734791400
END:VEVENT
END:VCALENDAR
