BEGIN:VCALENDAR
METHOD:PUBLISH
PRODID:Data::ICal 0.13
VERSION:2.0
BEGIN:VEVENT
DESCRIPTION:Source: Promotions / R1



Join Radio One Atlanta&nbsp;for the&nbsp;American&nbsp;Diabetes&nbsp;Association&nbsp;Step Out Walk With Passion 2026, Saturday May 30th at Atlantic Station starting at 9:00am! Join us for a fun day celebrating patients, caregivers and the fresh air as we help to raise funds for&nbsp;diabetes&nbsp;research, advocacy and education.&nbsp;Diabetes&nbsp;affects over 38 million children and adults in the United States: that&#039;s 1 in 10&nbsp;Americans. And every 26 seconds someone in the U.S is diagnosed with&nbsp;diabetes.&nbsp; 



Bring your friends, family, and co-workers to walk with thousands of people across the country and help us fight to end&nbsp;diabetes! Together we can make a difference for the MILLIONS of people living with&nbsp;diabetes. Just hit the register now link to join the Radio One Team and let&#039;s change the future one step at a time, Saturday May 30th at Atlantic Station!&nbsp;&nbsp; 



Registration link:&nbsp;https://stepout.diabetes.org/737
DTSTAMP:20260421T112736Z
DTSTART;TZID=America/New_York:20260530T090000
DTEND;TZID=America/New_York:20260530T090000
LOCATION:1380 Atlantic Drive NW\, Atlanta\, GA\, 30363
SUMMARY:Join the Radio One Team the ADA Step Out Walk With Passion 2026
UID:4724757-1780131600-1780131600
END:VEVENT
END:VCALENDAR
