BEGIN:VCALENDAR
METHOD:PUBLISH
PRODID:Data::ICal 0.13
VERSION:2.0
BEGIN:VEVENT
DESCRIPTION:CLICK HERE FOR TICKETS
DTSTAMP:20260424T131422Z
DTSTART;TZID=America/New_York:20250912T000000
DTEND;TZID=America/New_York:20250912T000000
LOCATION:
SUMMARY:Nelly, St. Lunatics, Ja Rule, Eve, Chingy &amp; Jermaine Dupri – Where The Party At Tour
UID:3687567-1757635200-1757635200
END:VEVENT
END:VCALENDAR
