BEGIN:VCALENDAR
METHOD:PUBLISH
PRODID:Data::ICal 0.13
VERSION:2.0
BEGIN:VEVENT
DESCRIPTION:[caption id=&quot;attachment_3065741&quot; align=&quot;alignnone&quot; width=&quot;1024&quot;] Source: R1 / R1[/caption]
DTSTAMP:20260423T131900Z
DTSTART;TZID=America/New_York:20230317T000000
DTEND;TZID=America/New_York:20230319T000000
LOCATION:
SUMMARY:Marketplace Events Atlanta Spring Home Show
UID:3065740-1679011200-1679184000
END:VEVENT
END:VCALENDAR
